BEGIN:VCALENDAR
VERSION:2.0
PRODID:-//janun.de//
BEGIN:VEVENT
SUMMARY:Hexenstich
DTSTART:20260507T160000Z
DTEND:20260507T190000Z
DTSTAMP:20260421T101038Z
UID:hexenstich-22@janun.de
DESCRIPTION:Offenes Näh- und Stricktreffen
URL:https://www.janun-lueneburg.de/de/veranstaltungen/hexenstich-22/
END:VEVENT
END:VCALENDAR
