BEGIN:VCALENDAR
VERSION:2.0
PRODID:-//janun.de//
BEGIN:VEVENT
SUMMARY:Hexenstich
DTSTART:20230406T160000Z
DTEND:20230406T190000Z
DTSTAMP:20230316T110729Z
UID:hexenstich-4@janun.de
DESCRIPTION:offenes Nähtreffen
URL:https://www.janun-lueneburg.de/de/veranstaltungen/hexenstich-4/
END:VEVENT
END:VCALENDAR
