BEGIN:VCALENDAR
VERSION:2.0
PRODID:-//janun.de//
BEGIN:VEVENT
SUMMARY:JANUN Lüneburg: offene Vorstandssitzung
DTSTART:20250922T140000Z
DTEND:20250922T150000Z
DTSTAMP:20250813T094340Z
UID:janun-lüneburg-offene-vorstandssitzung-18-6-25@janun.de
DESCRIPTION:Du möchtest JANUN Lüneburg besser kennenlernen? Dann komm ge
 rne zu unserer offenen Vorstandssitzung!
URL:https://www.janun-lueneburg.de/de/veranstaltungen/janun-l%C3%BCneburg-
 offene-vorstandssitzung-18-6-25/
END:VEVENT
END:VCALENDAR
