BEGIN:VCALENDAR
VERSION:2.0
PRODID:-//janun.de//
BEGIN:VEVENT
SUMMARY:Orientierungspfad
DTSTART:20220612T080000Z
DTEND:20220612T150000Z
DTSTAMP:20220602T074805Z
UID:orientierungspfad@janun.de
DESCRIPTION:Naturerleben * Innerer Wandel * Den eigenen Weg gehen * Sinner
 füllt leben
URL:https://www.janun-lueneburg.de/de/veranstaltungen/orientierungspfad/
END:VEVENT
END:VCALENDAR
