BEGIN:VCALENDAR
VERSION:2.0
PRODID:-//janun.de//
BEGIN:VEVENT
SUMMARY:TABU - Zyklus verstehen. Verhütung fair denken. Sex sicher leben.
DTSTART:20260418T100000Z
DTEND:20260418T160000Z
DTSTAMP:20260413T071930Z
UID:tabu-zyklus-verstehen-verhütung-fair-denken-sex-sicher-leben@janun.de
DESCRIPTION:Ein Tag für alle\, die mehr wissen wollen
URL:https://www.janun-lueneburg.de/de/veranstaltungen/tabu-zyklus-verstehe
 n-verh%C3%BCtung-fair-denken-sex-sicher-leben/
END:VEVENT
END:VCALENDAR
